BEGIN:VCALENDAR
VERSION:2.0
PRODID:-//Kuća umjetnosti Arsen - ECPv5.5.0//NONSGML v1.0//EN
CALSCALE:GREGORIAN
METHOD:PUBLISH
X-WR-CALNAME:Kuća umjetnosti Arsen
X-ORIGINAL-URL:https://kucaarsen.hr
X-WR-CALDESC:Događaji za Kuća umjetnosti Arsen
BEGIN:VTIMEZONE
TZID:Europe/Zagreb
BEGIN:DAYLIGHT
TZOFFSETFROM:+0100
TZOFFSETTO:+0200
TZNAME:CEST
DTSTART:20240331T010000
END:DAYLIGHT
BEGIN:STANDARD
TZOFFSETFROM:+0200
TZOFFSETTO:+0100
TZNAME:CET
DTSTART:20241027T010000
END:STANDARD
END:VTIMEZONE
BEGIN:VEVENT
DTSTART;TZID=Europe/Zagreb:20240207T180000
DTEND;TZID=Europe/Zagreb:20240207T180000
DTSTAMP:20260422T173323
CREATED:20240129T084226Z
LAST-MODIFIED:20240131T144257Z
UID:9617-1707328800-1707328800@kucaarsen.hr
SUMMARY:Barbie
DESCRIPTION:Barbie\, r. Greta Gerwig\, SAD\, 2023.\, 114′ (12) \n‘Barbie’ još jednom gledamo na velikom platnu Art kina Arsen ususret dodjeli najpoznatijih filmskih nagrada Oscar! \nU najiščekivanijem filmu godine slavna Mattelova lutka oživjela je u svojoj celuloidnoj formi pod redateljsko-scenarističkim okriljem Grete Gerwig\, dobro poznatog imena suvremene američke nezavisne kinematografije (Lady Bird\, 2017.\, Male žene\, 2019.). Zajedno s Noahom Baumbachom\, Gerwig je u scenariju nominiranom za Oscara podarila Barbie pravi makeover: najpopularnija lutka svih vremena rekontekstualizirana je za 21. stoljeće i za novu generaciju. Gerwig je Barbie zamislila kao satiričnu\, feministički potkovanu komediju koja “istovremeno slavi\, ironizira i dekonstruira svoju sretno-plastičnu protagonisticu” (The Guardian). \nU permanentnoj\, ružičastoj idili Barbielanda\, odjednom se počne događati nešto čudno\, a zbog uznemirujućih događaja Barbie je protjerana iz svoje rajske domovine. U pratnji Kena odlazi u stvarni svijet\, a plastični će tandem ondje uskoro otkriti neke prednosti\, ali i brojne probleme. Međutim\, kada se njezin rodni svijet nađe u opasnosti\, Barbie se vraća\, osnažena spoznajom da ju ono što ju čini drugačijom ujedno čini i jačom. U ulozi ikoničke lutke briljira Margot Robbie\, dok je Kena u posebno nadahnutoj izvedbi utjelovio Ryan Gosling. Nastala prema scenariju već prokušanog holivudskog dvojca Gerwig-Baumbach\, iza kojih stoji i kultni mumblecore uradak Frances Ha (2012.)\, Barbie je instantno potukla rekorde gledanosti\, postavši već u prvom vikendu distribucije najgledaniji film 2023. i najgledaniji film ikada koji je režirala žena. \nOsim u kategorijama najboljeg adaptiranog scenarija i najbolje sporedne muške uloge\, film se za Oscara bori i u kategorijama najboljeg filma\, sporedne ženske uloge\, kostimografije\, scenografije i pjesme. \nULAZNICE: Za Klub prijatelje 3\,50€ (22\,60 kn) / redovna cijena 4€  (26\,37 kn) \nUlaznice po redovnoj cijeni dostupne su online i na blagajni Kuće umjetnosti Arsen. \nČlanovi  Kluba prijatelja šibenskih tvrđava popust ostvaruju na fizičkim prodajnim mjestima uz predočenje važeće članske iskaznice. \n\n 
URL:https://kucaarsen.hr/event/barbie-3/
LOCATION:Kuća umjetnosti Arsen\, Obala hrvatske mornarice 1\, Šibenik\, 22000
CATEGORIES:Film
ATTACH;FMTTYPE=image/png:https://kucaarsen.hr/wp-content/uploads/2023/09/BARBIE.png
GEO:43.7324192;15.8902935
X-APPLE-STRUCTURED-LOCATION;VALUE=URI;X-ADDRESS=Kuća umjetnosti Arsen Obala hrvatske mornarice 1 Šibenik 22000;X-APPLE-RADIUS=500;X-TITLE=Obala hrvatske mornarice 1:geo:15.8902935,43.7324192
END:VEVENT
END:VCALENDAR