BEGIN:VCALENDAR
VERSION:2.0
PRODID:-//Kuća umjetnosti Arsen - ECPv5.5.0//NONSGML v1.0//EN
CALSCALE:GREGORIAN
METHOD:PUBLISH
X-WR-CALNAME:Kuća umjetnosti Arsen
X-ORIGINAL-URL:https://kucaarsen.hr
X-WR-CALDESC:Događaji za Kuća umjetnosti Arsen
BEGIN:VTIMEZONE
TZID:Europe/Zagreb
BEGIN:DAYLIGHT
TZOFFSETFROM:+0100
TZOFFSETTO:+0200
TZNAME:CEST
DTSTART:20240331T010000
END:DAYLIGHT
BEGIN:STANDARD
TZOFFSETFROM:+0200
TZOFFSETTO:+0100
TZNAME:CET
DTSTART:20241027T010000
END:STANDARD
END:VTIMEZONE
BEGIN:VEVENT
DTSTART;TZID=Europe/Zagreb:20240515T183000
DTEND;TZID=Europe/Zagreb:20240515T183000
DTSTAMP:20260421T231250
CREATED:20240507T074543Z
LAST-MODIFIED:20240507T075754Z
UID:10310-1715797800-1715797800@kucaarsen.hr
SUMMARY:Back to Black
DESCRIPTION:Back to Black\, r. Sam Taylor-Johnson\, Velika Britanija\, 2024.\, 122′ (12) \nBiografski film o jednoj od najvećih glazbenica našega doba i tragičnoj figuri nevjerojatnog talenta čija prerana smrt nije okončala brojne kontroverze koje su pratile njezin život – Amy Winehouse.  \nPrati njezin turbulentan život i energičnu glazbu\, portretirajući pritom njezin iskričavi duh: od teen Židovke iz Camdena\, pa do karizmatične i beskompromisne glazbenice čije je virtuozno pjevačko umijeće impresioniralo milijune fanova diljem svijeta. Ispreplitanje intimnog i javnog\, ovisnosti i slave\, disfunkcionalne ljubavi i ekstatičnih koncertnih nastupa obilježilo je njezinu biografiju\, a ovaj film nastoji oživjeti upravo kobne suprotnosti između blistavog i mračnog koje su Amy naposljetku odvele prema tragičnom kraju.  \nU hvaljenoj i nadahnutoj glumačkoj izvedbi Marisa Abel oživjela je Amy na velikom platnu\, pod direkcijom britanske redateljice Sam Taylor-Johnson u čijoj se filmografiji nalazi još jedna biografska glazbena drama – Dečko koji ne obećava (2009.) o formativnim godinama Johna Lennona\, ali i popularna filmska adaptacija hit-romana Pedeset nijansi sive.  \nNazvan prema hvaljenom albumu Amy Winehouse iz 2006.\, koji ju je doveo do svjetske slave i priskrbio pet nagrada Grammy (uključujući one za album godine i pjesmu godine – hit singl Rehab)\, Back to Black celuloidna je posveta kultnoj glazbenici i neprocjenjivoj umjetničkoj ostavštini koja ju je nadživjela.  \n  \n\nULAZNICE\nZa Klub prijatelja 3\,50€/ redovna cijena 4€  \nUlaznice po redovnoj cijeni dostupne su online i na blagajni Kuće umjetnosti Arsen. \nČlanovi  Kluba prijatelja popust ostvaruju na fizičkim prodajnim mjestima uz predočenje važeće članske iskaznice.
URL:https://kucaarsen.hr/event/back-to-black-2/
LOCATION:Kuća umjetnosti Arsen\, Obala hrvatske mornarice 1\, Šibenik\, 22000
CATEGORIES:Film
ATTACH;FMTTYPE=image/jpeg:https://kucaarsen.hr/wp-content/uploads/2024/04/BACK-TO-BLACK.jpg
GEO:43.7324192;15.8902935
X-APPLE-STRUCTURED-LOCATION;VALUE=URI;X-ADDRESS=Kuća umjetnosti Arsen Obala hrvatske mornarice 1 Šibenik 22000;X-APPLE-RADIUS=500;X-TITLE=Obala hrvatske mornarice 1:geo:15.8902935,43.7324192
END:VEVENT
END:VCALENDAR