BEGIN:VCALENDAR
VERSION:2.0
PRODID:-//Kuća umjetnosti Arsen - ECPv5.5.0//NONSGML v1.0//EN
CALSCALE:GREGORIAN
METHOD:PUBLISH
X-WR-CALNAME:Kuća umjetnosti Arsen
X-ORIGINAL-URL:https://kucaarsen.hr
X-WR-CALDESC:Događaji za Kuća umjetnosti Arsen
BEGIN:VTIMEZONE
TZID:Europe/Zagreb
BEGIN:DAYLIGHT
TZOFFSETFROM:+0100
TZOFFSETTO:+0200
TZNAME:CEST
DTSTART:20230326T010000
END:DAYLIGHT
BEGIN:STANDARD
TZOFFSETFROM:+0200
TZOFFSETTO:+0100
TZNAME:CET
DTSTART:20231029T010000
END:STANDARD
END:VTIMEZONE
BEGIN:VEVENT
DTSTART;TZID=Europe/Zagreb:20231216T200000
DTEND;TZID=Europe/Zagreb:20231216T200000
DTSTAMP:20260420T152909
CREATED:20231130T142809Z
LAST-MODIFIED:20231205T085346Z
UID:9316-1702756800-1702756800@kucaarsen.hr
SUMMARY:As we drove short short horizon-lines
DESCRIPTION:As we drove short short horizon-lines zvučni je i koreografski komad autorice Claire Hubert na raskrižju između koreografije\, usmene poezije\, zvuka i glazbe. Autorica svoje komade zamišlja kao “koreografije za slušanje”\, jer im je namjera isklesati percepcije u vremenu i pozvati da se obrati pozornost na ono što nije odmah vidljivo. \nDjelo je nastalo kroz suradnju francuske pjesnikinje i koreografkinje Claire Huber\, hrvatske plesačice i glazbenice Nastasje Štefanić Kralj i sirijsko-kurdskog glazbenika Stalina Blakea\, a prati osjetljive infleksije dugih putovanja koja idu od bliskoistočnih regija\, preko Balkana\, do Zapadne Europe\, prelazeći kratke\, sve kraće linije koje kao da ustrajno razdvajaju naše horizonte. Izvedbom se traga za artikuliranjem razlika – bile one umjetničkih ili kulturnih izričaja\, bez njihovog miješanja\, kako bi se izgradili mostovi između ogromnih planina. \nSastavljena kao živa pjesma s nekoliko glasova\, jezika\, instrumenata i tijela\, izvedba nudi intiman zvučni put\, crpeći iz ljudskog iskustva stalnog mijenjanja. Ujedno je i oda putujućim tijelima kojima tlo nikad ne obuzda. \n  \nPREMA RIJEČIMA AUTORICE\nZa komad As we drove short short horizon-lines kao polazište smo uzeli vrstu asimetričnih ritmova koji se mogu pronaći na cijelom Balkanskom poluotoku\, preko Grčke i Bugarske\, sve do bliskoistočnih regija. Ti ritmovi idu 12 12 123\, ili «kratko kratko kratko dugo»\, ili «titititi taaaaaaaaa». \nDok sam u svom prethodnom djelu istraživala fizički pokret i pokušavala njegov vlastiti ritam\, ovaj put sam htjela preokrenuti proces. Kao polazište uzeti specifičan – kolektivno zajednički – ritam\, da bi zatim promišljala koje fizičke\, duhovne ili materijalne događaje može manifestirati. \nRitam je postao put koji vodi i inducira pokrete\, zvukove i riječi. Tada se pokazalo ono što sam slutila: ti ritmovi me fasciniraju jer artikuliraju raznolikosti\, a ujedno premošćuju dvije različite vremenske logike: vrijeme koje je jasno definirano unutar takta i vrijeme koje to nadilazi. \n\nAUTORSKI TIM\nKoncept\, režija i tekst: Claire Huber\nIzvedba: Stalin Blake\, Claire Huber\, Nastasja Štefanić\nKostimi: Zdravka Ivandija Kirigin\nDizajn zvuka i svjetla: Emmanuel Desmyter\nScenografija: Stalin Blake and Claire Huber\nAdministracijska i produkcijska podrška: France Morin \nKoprodukcija i partneri: Le Senghor (BE)\, Hrvatski institut za pokret i ples\, STUK (BE)\, BUDA (BE)\, KAAP (BE)\, De School van Gaasbeek (BE)\, Le Marni (BE)\, Nomad Dance Academy Slovenia (SI)\, Garage Performing art center (GR)\, DEVIR/CAPA (PT)\, Arts Printing house (LT)\, Station (SR)\, ZPC (HR)\, Mediteranski plesni centar (HR)\, CDCN Toulouse-La place de la danse (FR)\, Honolulu-Nantes (FR)\, La Ménagerie de Verre (FR) \nUz podršku: Ministry of Culture of the Flemish Community\, Fédération Wallonie-Bruxelles-Service de la danse\, Wallonie-Bruxelles International\, I-Portunus (Creative Europe)\, Teatroskop-Institut Français i Minstarsva kulture i medija Republike Hrvatske \n  \nULAZNICE\nZa Klub prijatelje 4€ (30\,14 kn) / redovna cijena 5€  (37\,67 kn) \nUlaznice po redovnoj cijeni dostupne su online i na blagajni Kuće umjetnosti Arsen. \nČlanovi  Kluba prijatelja popust ostvaruju na fizičkim prodajnim mjestima uz predočenje važeće članske iskaznice.
URL:https://kucaarsen.hr/event/as-we-drove-short-short-horizon-lines/
LOCATION:Kuća umjetnosti Arsen\, Obala hrvatske mornarice 1\, Šibenik\, 22000
CATEGORIES:Ples
ATTACH;FMTTYPE=image/png:https://kucaarsen.hr/wp-content/uploads/2023/11/As-we-drove-web.png
GEO:43.7324192;15.8902935
X-APPLE-STRUCTURED-LOCATION;VALUE=URI;X-ADDRESS=Kuća umjetnosti Arsen Obala hrvatske mornarice 1 Šibenik 22000;X-APPLE-RADIUS=500;X-TITLE=Obala hrvatske mornarice 1:geo:15.8902935,43.7324192
END:VEVENT
END:VCALENDAR