BEGIN:VCALENDAR
VERSION:2.0
PRODID:-//Kuća umjetnosti Arsen - ECPv5.5.0//NONSGML v1.0//EN
CALSCALE:GREGORIAN
METHOD:PUBLISH
X-WR-CALNAME:Kuća umjetnosti Arsen
X-ORIGINAL-URL:https://kucaarsen.hr
X-WR-CALDESC:Događaji za Kuća umjetnosti Arsen
BEGIN:VTIMEZONE
TZID:Europe/Zagreb
BEGIN:DAYLIGHT
TZOFFSETFROM:+0100
TZOFFSETTO:+0200
TZNAME:CEST
DTSTART:20230326T010000
END:DAYLIGHT
BEGIN:STANDARD
TZOFFSETFROM:+0200
TZOFFSETTO:+0100
TZNAME:CET
DTSTART:20231029T010000
END:STANDARD
END:VTIMEZONE
BEGIN:VEVENT
DTSTART;TZID=Europe/Zagreb:20231215T180000
DTEND;TZID=Europe/Zagreb:20231215T180000
DTSTAMP:20260424T124016
CREATED:20231211T111539Z
LAST-MODIFIED:20231211T112339Z
UID:9359-1702663200-1702663200@kucaarsen.hr
SUMMARY:Arsenturica: Promocija zbirke pjesama "Ljubav"
DESCRIPTION:U petak 15. prosinca sprema se nešto posebno na Arsenturici! \nŠibenčanka Maja Gulin predstavit će autorsku zbirku pjesama za djecu ‘Ljubav’\, a na promociji će sudjelovati i Dječji zbor Cvrčak te mali interpretatori koji će recitirati odabrane pjesme iz zbirke. \nDječji zbor Cvrčak u Arsena stiže nakon osvojenog trećeg mjesta na Hrvatskom dječjem festivalu\, uglednoj glazbenoj manifestaciji dječjih zborova\, a u Arsenu će izvesti i pjesmu po kojoj je nazvana zbirka pjesama. \nUlaz je slobodan do ispunjenja kapaciteta! \n  \nO ARSENTURICI\nAdventurin kreativni radionički program za najmlađe ove se godine održava u toplini Kuće umjetnosti Arsen koja je najmlađim Šibenčanima tijekom trajanja Adventure u prosincu drugi dom! Ove zime\, s promjenom mjesta događanja\, i sam program nosi novo ime Arsenturica! \nŠibenska Adventura godinama nudi kvalitetan i kreativan sadržaj koji\, osim što zabavlja\, sustavno radi na i edukaciji najmlađih. Kao i proteklih zima\, i ovogodišnje je sadržaje radioničkog programa kurirala pedagoginja Maja Šintić. \nDetaljni raspored događanja provjerite na web stranici Adventure Šibenik.
URL:https://kucaarsen.hr/event/arsenturica-promocija-zbirke-pjesama-ljubav/
LOCATION:Kuća umjetnosti Arsen\, Obala hrvatske mornarice 1\, Šibenik\, 22000
CATEGORIES:Djeca i mladi,Najave
ATTACH;FMTTYPE=image/jpeg:https://kucaarsen.hr/wp-content/uploads/2023/12/Arsenturica_Maja-Gulin-Ljubav-2.jpg
GEO:43.7324192;15.8902935
X-APPLE-STRUCTURED-LOCATION;VALUE=URI;X-ADDRESS=Kuća umjetnosti Arsen Obala hrvatske mornarice 1 Šibenik 22000;X-APPLE-RADIUS=500;X-TITLE=Obala hrvatske mornarice 1:geo:15.8902935,43.7324192
END:VEVENT
END:VCALENDAR