BEGIN:VCALENDAR
VERSION:2.0
PRODID:-//Kuća umjetnosti Arsen - ECPv5.5.0//NONSGML v1.0//EN
CALSCALE:GREGORIAN
METHOD:PUBLISH
X-WR-CALNAME:Kuća umjetnosti Arsen
X-ORIGINAL-URL:https://kucaarsen.hr
X-WR-CALDESC:Događaji za Kuća umjetnosti Arsen
BEGIN:VTIMEZONE
TZID:Europe/Zagreb
BEGIN:DAYLIGHT
TZOFFSETFROM:+0100
TZOFFSETTO:+0200
TZNAME:CEST
DTSTART:20250330T010000
END:DAYLIGHT
BEGIN:STANDARD
TZOFFSETFROM:+0200
TZOFFSETTO:+0100
TZNAME:CET
DTSTART:20251026T010000
END:STANDARD
END:VTIMEZONE
BEGIN:VEVENT
DTSTART;TZID=Europe/Zagreb:20250424T200000
DTEND;TZID=Europe/Zagreb:20250424T200000
DTSTAMP:20260424T120544
CREATED:20250416T073156Z
LAST-MODIFIED:20250423T083003Z
UID:11666-1745524800-1745524800@kucaarsen.hr
SUMMARY:Ante Radonić - Najnovija istraživanja svemira
DESCRIPTION:Ante Radonić održat će predavanje pod nazivom Najnovija istraživanja svemira u Kući umjetnosti Arsen 24. travnja. \nNa predavanju će biti riječi o najnovijim istraživanjima i zanimljivim svemirskim misijama. Predavač će se osvrnuti na neka istraživanja svemirskog teleskopa James Webb\, objasniti nove međuplanetske misije te predstavit privatne letjelice koje su nedavno poslane na Mjesec. \n  \nO PREDAVAČU: \nAnte Radonić preko 40 godina radio je u Tehničkom muzeju „Nikola Tesla“ u Zagrebu na radnom mjestu voditelja planetarija s odjelom astronautike. Bavi se popularizacijom astronomije\, astronautike i raketne tehnike. Održava aktualna javna tematska predavanja za građanstvo. Dosad je održao preko 800 javnih predavanja širom Hrvatske. \nObjavio je preko 300 popularno-znanstvenih članaka u časopisima i tjednicima. Najviše je pisao za časopis zagrebačke zvjezdarnice Čovjek i svemir (od 1970.). Stalni je stručni suradnik tjedne emisije Andromeda\, posvećene istraživanju svemira\, na Drugom programu Hrvatskog radija (već 29 godina\, od 1996.). Dobitnik je nagrade za životno djelo Hrvatske zajednice tehničke kulture (2014.). \nZbog duge aktivnosti na polju popularizacije\, po njemu je 2022. godine\, na prijedlog prof. dr. Željka Ivezića\, nazvan asteroid „176981 Anteradonic“\, kojeg su otkrili astronomi projekta „Sloan Digital Sky“ 2002. godine. \n  \nPredavanje je dio programske linije Silver kojoj je cilj poticanje društvene inkluzije seniora. \nU sklopu programa Silver\, Klub prijatelja dobio je produžetak – Silver Klub prijatelja čiji članovi imaju imati besplatan pristup svim programima s prefiksom Silver i povlaštenu cijenu učlanjenja. \nULAZNICE \nČlanovima Silver Kluba prijatelja ulaz na predavanje je slobodan. \nZa Klub prijatelja 3\,5€ / redovna cijena 5€ \nUlaznice po redovnoj cijeni dostupne su online i na blagajni Kuće umjetnosti Arsen. \nČlanovi Kluba prijatelja popust ostvaruju na fizičkim prodajnim mjestima uz predočenje važeće članske iskaznice.
URL:https://kucaarsen.hr/event/ante-radonic/
LOCATION:Kuća umjetnosti Arsen\, Obala hrvatske mornarice 1\, Šibenik\, 22000
CATEGORIES:Predavanje
ATTACH;FMTTYPE=image/jpeg:https://kucaarsen.hr/wp-content/uploads/2025/04/1000034014.jpg
GEO:43.7324192;15.8902935
X-APPLE-STRUCTURED-LOCATION;VALUE=URI;X-ADDRESS=Kuća umjetnosti Arsen Obala hrvatske mornarice 1 Šibenik 22000;X-APPLE-RADIUS=500;X-TITLE=Obala hrvatske mornarice 1:geo:15.8902935,43.7324192
END:VEVENT
END:VCALENDAR