BEGIN:VCALENDAR
VERSION:2.0
PRODID:-//Kuća umjetnosti Arsen - ECPv5.5.0//NONSGML v1.0//EN
CALSCALE:GREGORIAN
METHOD:PUBLISH
X-WR-CALNAME:Kuća umjetnosti Arsen
X-ORIGINAL-URL:https://kucaarsen.hr
X-WR-CALDESC:Događaji za Kuća umjetnosti Arsen
BEGIN:VTIMEZONE
TZID:Europe/Zagreb
BEGIN:DAYLIGHT
TZOFFSETFROM:+0100
TZOFFSETTO:+0200
TZNAME:CEST
DTSTART:20250330T010000
END:DAYLIGHT
BEGIN:STANDARD
TZOFFSETFROM:+0200
TZOFFSETTO:+0100
TZNAME:CET
DTSTART:20251026T010000
END:STANDARD
END:VTIMEZONE
BEGIN:VEVENT
DTSTART;TZID=Europe/Zagreb:20250530T200000
DTEND;TZID=Europe/Zagreb:20250530T200000
DTSTAMP:20260420T133725
CREATED:20250526T092158Z
LAST-MODIFIED:20250526T092352Z
UID:11791-1748635200-1748635200@kucaarsen.hr
SUMMARY:Animirani Šibenik
DESCRIPTION:Došlo je vrijeme za još jedno izdanje manifestacije Animirani Šibenik. U petak\, 30.5.2025. s početkom u 20 sati u Kući umjetnosti Arsen\, publici ćemo predstaviti izbor finskih krakometražnih animiranih filmova odabranih od selektora Jonia Männistöa\, renomiranog stručnjaka za animirani film i umjetničkog direktora Turku animiranog film festivala iz Finske. \nRadi se o presjeku recentne Finske animirane produkcije\, a na velikom platnu bit će prikazani naslovi koji su osvojili publiku i žirije na brojnim međunarodnim festivalima: \nPaddle Boat – Samppa Kukkonen – 15:42 \nKiirehessä liikkumatoin – Elli Vuorinen – 06:02 \nKaikki herkät jutut – Tatu Pohjavirta – 13:00 \nF I N K E L – w / o – Sanni Lahtinen – 04:00 \nNocturnal Butterfly – Annika Dahlsten – 05:00 \nWormhole – Turun Anikistit – 13:00 \nPenelope – Heta Jäälinoja – 04:00 \nPrije same projekcije\, posjetitelji će imati priliku razgovarati s Joniem Männistöm koji će osim osvrta na prikazane filmove\, govoriti i o iskustvima s Turku animiranog film festivala\, čiji je cilj kako stvoriti platformu za susrete između filmaša\, predstavnika industrije i lokalnih ljubitelja animacije tako i proširivati koncept filmskog prikazivanja i okupljanje filma i drugih oblika kreativnosti. \nJoni Männistö je nagrađivani animator i ilustrator rođen 1981. u Finskoj. Nakon što je 2011. diplomirao na odjelu za animaciju Umjetničke akademije u Turkuu\, postao je aktivni član nekoliko finskih animacijskih kolektiva koji rade na komercijalnim i umjetničkim projektima. Kolektivni rad uključuje animirane filmove\, kao i umjetničke instalacije za izložbe. Trenutno živi i radi u Tallinnu u Estoniji\, kao slobodni umjetnik. \nMännistö je režirao filmove poput The Trap (2008.)\, Swarming (2011.) i Electric Soul (2013.)\, koji su svi prikazani na brojnim međunarodnim festivalima diljem svijeta. Osim toga\, njegova filmografija uključuje kolektivne produkcije Re-Cycling (2014.) i Wormhole (2016.)\, u kojima je radio kao jedan od animatora. Osim snimanja filmova\, Männistö djeluje i kao umjetnički direktor Festivala animiranog filma u Turkuu. \nVečer je otvorena za sve ljubitelje animacije i filma\, a posjetitelji mogu očekivati vrhunski filmski doživljaj te inspirativan razgovor s jednim od vodećih stručnjaka na europskoj animatorskoj sceni. Filmovi s naracijom imati će engleske titlove. \nUlaz na projekciju je besplatan.
URL:https://kucaarsen.hr/event/animirani-sibenik/
LOCATION:Kuća umjetnosti Arsen\, Obala hrvatske mornarice 1\, Šibenik\, 22000
CATEGORIES:Film
ATTACH;FMTTYPE=image/jpeg:https://kucaarsen.hr/wp-content/uploads/2025/05/animirani-sibenik-TAFF.jpg
GEO:43.7324192;15.8902935
X-APPLE-STRUCTURED-LOCATION;VALUE=URI;X-ADDRESS=Kuća umjetnosti Arsen Obala hrvatske mornarice 1 Šibenik 22000;X-APPLE-RADIUS=500;X-TITLE=Obala hrvatske mornarice 1:geo:15.8902935,43.7324192
END:VEVENT
END:VCALENDAR