BEGIN:VCALENDAR
VERSION:2.0
PRODID:-//Kuća umjetnosti Arsen - ECPv5.5.0//NONSGML v1.0//EN
CALSCALE:GREGORIAN
METHOD:PUBLISH
X-WR-CALNAME:Kuća umjetnosti Arsen
X-ORIGINAL-URL:https://kucaarsen.hr
X-WR-CALDESC:Događaji za Kuća umjetnosti Arsen
BEGIN:VTIMEZONE
TZID:Europe/Zagreb
BEGIN:DAYLIGHT
TZOFFSETFROM:+0100
TZOFFSETTO:+0200
TZNAME:CEST
DTSTART:20240331T010000
END:DAYLIGHT
BEGIN:STANDARD
TZOFFSETFROM:+0200
TZOFFSETTO:+0100
TZNAME:CET
DTSTART:20241027T010000
END:STANDARD
END:VTIMEZONE
BEGIN:VEVENT
DTSTART;TZID=Europe/Zagreb:20240515T210000
DTEND;TZID=Europe/Zagreb:20240515T210000
DTSTAMP:20260421T221425
CREATED:20240429T091434Z
LAST-MODIFIED:20240430T113149Z
UID:10259-1715806800-1715806800@kucaarsen.hr
SUMMARY:3 za 1: Zvjerka-Piknik-Jedna od nas
DESCRIPTION:Manifestacija Mjesec našeg filma koju organizira Hrvatski audiovizualni centar na velikom platnu kina Arsen prikazuje tri filmska naslova. \n  \nZvjerka\, r. Daina Oniunas-Pusić\, 2015.\, 20’ \nStogodišnjakinja Nada i njezina 75-godišnja kći Vera imaju napet\, ali uhodan odnos. Djetinjasta Vera brine se za svoju nijemu i nemoćnu\, iako ponekad okrutnu\, majku. Jedne večeri u Nadinu sobu uleti šišmiš i nađe utočište ispod njena kreveta. Prisutnost životinje postupno vraća starici izgubljenu snagu. Neobična kratkometražna filmska bravura na velikom je platnu ujedinila dva iskusna i karizmatična domaća glumačka imena – u jednoj od svojih posljednjih uloga nastupila je legendarna Marija Kohn\, a u ulozi njezine kćeri našla se Doris Šarić-Kukuljica.  \n  \nPiknik\, r. Jure Pavlović\, Hrvatska\, 2015.\, 13’ \nNa sarajevskim cestama velika je gužva. Petnaestogodišnji Emir u društvu nadzornika socijalne službe odlazi u posjet svome ocu Safetu koji se nalazi na izdržavanju zatvorske kazne u poluotvorenom odjelu kaznionice na Igmanu. Zbog gužve u prometu kasne\, pa posjet traje kraće od planiranog. Kratkometražni film Jure Pavlovića premijeru je imao na Berlinaleu\, a impresivnu turneju po nizu uglednih filmskih festivala zaokružilo je osvajanje “europskog Oscara” – Europske filmske nagrade.  \n\n  \nJedna od nas\, r. Đuro Gavran\, Hrvatska\, 2020.\, 51′ \nDokumentarni film u režiji nagrađivanog filmaša Đure Gavrana prati reakcije jedne zajednice na otkriće o seksualnom zlostavljanju. Na proslavi petnaeste godišnjice mature kolege iz razreda razgovaraju o poslu\, djeci i srednjoškolskim dogodovštinama dok pokušavaju pronaći način da započnu razgovor o spoznaji koja ih je sve šokirala: kolegica s kojom su četiri godine dijelili klupe žrtva je obiteljskog seksualnog zlostavljanja. Jedan od sudionika večere i protagonist filma je i redatelj\, čija je namjera ovim ostvarenjem podići svijest o toj akutnoj temi kako bi se\, u konačnici\, pomoglo žrtvama nasilja u suočavanju s posljedicama traumatičnog iskustva\, a potaknut je podacima istraživanja koje ukazuje da seksualno nasilje pogađa svako peto dijete.  \n\n  \nFilmovi se prikazuju u sklopu manifestacije Mjesec našeg filma koju organizira Hrvatski audiovizualni centar. \n  \nULAZNICE\nZa Klub prijatelja 3\,50€/ redovna cijena 4€  \nUlaznice po redovnoj cijeni dostupne su online i na blagajni Kuće umjetnosti Arsen. \nČlanovi  Kluba prijatelja popust ostvaruju na fizičkim prodajnim mjestima uz predočenje važeće članske iskaznice.
URL:https://kucaarsen.hr/event/3-za-1-zvjerka-piknik-jedna-od-nas/
LOCATION:Kuća umjetnosti Arsen\, Obala hrvatske mornarice 1\, Šibenik\, 22000
CATEGORIES:Film
ATTACH;FMTTYPE=image/jpeg:https://kucaarsen.hr/wp-content/uploads/2024/04/PIKNIK.jpg
GEO:43.7324192;15.8902935
X-APPLE-STRUCTURED-LOCATION;VALUE=URI;X-ADDRESS=Kuća umjetnosti Arsen Obala hrvatske mornarice 1 Šibenik 22000;X-APPLE-RADIUS=500;X-TITLE=Obala hrvatske mornarice 1:geo:15.8902935,43.7324192
END:VEVENT
END:VCALENDAR