BEGIN:VCALENDAR
VERSION:2.0
PRODID:-//Kuća umjetnosti Arsen - ECPv5.5.0//NONSGML v1.0//EN
CALSCALE:GREGORIAN
METHOD:PUBLISH
X-WR-CALNAME:Kuća umjetnosti Arsen
X-ORIGINAL-URL:https://kucaarsen.hr
X-WR-CALDESC:Događaji za Kuća umjetnosti Arsen
BEGIN:VTIMEZONE
TZID:Europe/Zagreb
BEGIN:DAYLIGHT
TZOFFSETFROM:+0100
TZOFFSETTO:+0200
TZNAME:CEST
DTSTART:20240331T010000
END:DAYLIGHT
BEGIN:STANDARD
TZOFFSETFROM:+0200
TZOFFSETTO:+0100
TZNAME:CET
DTSTART:20241027T010000
END:STANDARD
END:VTIMEZONE
BEGIN:VEVENT
DTSTART;TZID=Europe/Zagreb:20241222T110000
DTEND;TZID=Europe/Zagreb:20241222T110000
DTSTAMP:20260424T063724
CREATED:20241127T094048Z
LAST-MODIFIED:20241204T111249Z
UID:10948-1734865200-1734865200@kucaarsen.hr
SUMMARY:12. Maraton kratkometražnog filma - Mali maratonci
DESCRIPTION:Mali maratonci – 12. maraton kratkometražnog filma\nuzrast 4+\, ukupno trajanje 85′ (s uključenom 5′ pauzom) \nPovodom najkraćeg dana u godini\, uz manifestaciju Maraton kratkometražnog filma i ove se godine slavi kratka filmska forma! Hrvatski audiovizualni centar i Kino mreža donose izbor kratkometražnih filmova za filmofile svih generacija. \nNajmlađa publika i njihova odrasla pratnja u sklopu ovogodišnjeg maratona moći će uživati u selekciji nagrađivanih kratkih filmova domaće i inozemne produkcije. \nIdeja o Maratonu kratkometražnog filma nastala je 2012. godine u Francuskoj s ciljem promicanja bogatog repertoara kratkometražne forme i u međuvremenu se proširila diljem Europe. U Hrvatskoj se održava jedanaestu godinu zaredom u suradnji s Hrvatskim audiovizualnim centrom i Kino mrežom te uz podršku autorica i autora. \nULAZ SLOBODAN do popunjenja kapaciteta dvorane! \n  \nFilmovi se prikazuju u dva bloka\, uz petominutnu pauzu između blokova. \n11.00 – 11.45 h: Mali domaći maratonci (uzrast 4+) \nGlazbene čarapice\, r. Ana Horvat\, 2023.\, 10’23”\, animirani\nKrajnje netalentirani zec Darko započinje lekcije pjevanja kod cvrčka Zvonka. Lekcije prolaze katastrofalno\, što je poražavajuće za obojicu. Kad jež Željko unese novi pogled na problem\, na opće zadovoljstvo Darkovi nedostaci postaju prednosti. \nPlavi medo\, r. Marina Andree Škop\, 2023.\, 10′\, animirani\nDječak je za svoj peti rođendan dobio plavog plišanog medu. Iako je silno želio otvoriti dar\, mama mu to nije dopustila jer plišanci često prenose bakterije. Danima je čeznuo za medom\, maštajući kako se igra s njim\, sve dok mu jednog dana mlađa sestrična nije odmotala i otela plišanca. Dječak je doživio razočaranje koje će pamtiti još dugo. Kada je porastao i postao tata\, odlučio je učiniti sve kako bi svom sinu ostvario snove. \nLeptir\, r. Sunčana Brkulj\, 2024.\, 8’7”\, animirani\nZajednica stvorenja spokojno živi u vrtu gdje svako biće ima svoju posebnu ulogu. Njihovi zadaci povezani su u ciklus i svi trebaju vodu iz fontane. No kad leptir zaglavi u fontani\, dotok vode se prekida. Svi se zabrinu\, odjednom nesigurni u svoje uloge. Ali onda se udruže i pronalaze nove načine obavljanje starih zadataka – sad koriste mlijeko. Netom što su se uhodali\, leptir odlijeće i voda se vraća. S oba ciklusa u pogonu\, vrt je sad još življi\, s više boja\, prizora i zvukova no ikad prije. \nPutovanje\, r. Mirela Ivanković Bielen\, 2022.\, 5’56”\,animirani\nZa svakog od nas postoji posebno mjesto pod suncem. Da bismo stigli na to mjesto\, moramo se odvažiti i krenuti na putovanje. Ono može biti dugo\, uzbudljivo\, opasno\, ali sigurno nas dovodi do našeg posebnog mjesta. \nMišja kuća\, r. Timon Leder\, 2022.\, 8’30”\, animirani\nDva miša pronalaze kolut sira u napuštenoj kolibi. Ambiciozniji miš se ušulja u kolibu i upadne u zamku. U svojoj pohlepi\, jede sir iznutra prema van\, sve dok se ne uruši. Vani\, njegovog izgladnjelog prijatelja vreba gladna mačka. Pohlepni miš sada je pred odlukom: spasiti sebe ili pomoći prijatelju u nevolji. \n  \n11.50 – 12.25 h: Mali europski maratonci (uzrast 4+) \nGusjenica i kokoš (Caterpillar and Hen)\, r. Michela Donini\, Katya Rinaldi\, Italija\, 2013.\, 10’\nGusjenica i kokoš su najbolji prijatelji. Oboje znaju da je došlo vrijeme rastanka\, ali će priroda\, tajni otkucaji srca svijeta\, diktirati ritam bučnog čekanja i tihih preobrazbi. \nEter (Ether)\, r. Jorge García Velayos\, Španjolska\, 2004.\, 5′\nKrenimo u avanturu u prirodi! Vjetar i voda vode put. \nBijela vrana (White Crow)\, r. Miran Miošić\, Hrvatska\, 2018.\, 9’\nMala bijela vrana ne uklapa se u svoje jato crnih vrana. Zbog različitosti je često predmet čuđenja i ismijavanja. Međutim\, kada se okoliš u kojem žive zbog zagađenosti promijeni\, mala bijela vrana pomaže jatu pronaći bolje mjesto za život.\nSurlavci (The Smortlybacks)\, r. Ted Sieger\, Wouter Dierickx\, Švicarska\, 2013.\, 6’\nNa planini neobično krdo i njihov vodič kreću na iznenađujuće i beskrajno putovanje. \nOtok (Island)\, r. Max Mörtl\, Robert Löbel\, Njemačka\, 2017. 3’\nNa malom otoku mnoštvo egzotičnih stvorenja trče jedna preko drugih. \nGospodin Noć ima slobodan dan (Mr. Night Has A Day Off)\, r. Ignas Meilũnas\, Litva\, 2016.\, 2’\nZašto noć mijenja dan? Pa kad vam se nešto ne sviđa\, promijenite to.
URL:https://kucaarsen.hr/event/12-maraton-kratkometraznog-filma-mali-maratonci/
LOCATION:Kuća umjetnosti Arsen\, Obala hrvatske mornarice 1\, Šibenik\, 22000
CATEGORIES:Djeca i mladi,Film
ATTACH;FMTTYPE=image/jpeg:https://kucaarsen.hr/wp-content/uploads/2024/11/12MKF024.jpg
GEO:43.7324192;15.8902935
X-APPLE-STRUCTURED-LOCATION;VALUE=URI;X-ADDRESS=Kuća umjetnosti Arsen Obala hrvatske mornarice 1 Šibenik 22000;X-APPLE-RADIUS=500;X-TITLE=Obala hrvatske mornarice 1:geo:15.8902935,43.7324192
END:VEVENT
END:VCALENDAR